BEGIN:VCALENDAR
VERSION:2.0
PRODID:-//Lhasa Happy Homes - ECPv6.15.17.1//NONSGML v1.0//EN
CALSCALE:GREGORIAN
METHOD:PUBLISH
X-ORIGINAL-URL:https://lhasahappyhomes.org
X-WR-CALDESC:Events for Lhasa Happy Homes
REFRESH-INTERVAL;VALUE=DURATION:PT1H
X-Robots-Tag:noindex
X-PUBLISHED-TTL:PT1H
BEGIN:VTIMEZONE
TZID:America/Los_Angeles
BEGIN:DAYLIGHT
TZOFFSETFROM:-0800
TZOFFSETTO:-0700
TZNAME:PDT
DTSTART:20190310T100000
END:DAYLIGHT
BEGIN:STANDARD
TZOFFSETFROM:-0700
TZOFFSETTO:-0800
TZNAME:PST
DTSTART:20191103T090000
END:STANDARD
BEGIN:DAYLIGHT
TZOFFSETFROM:-0800
TZOFFSETTO:-0700
TZNAME:PDT
DTSTART:20200308T100000
END:DAYLIGHT
BEGIN:STANDARD
TZOFFSETFROM:-0700
TZOFFSETTO:-0800
TZNAME:PST
DTSTART:20201101T090000
END:STANDARD
BEGIN:DAYLIGHT
TZOFFSETFROM:-0800
TZOFFSETTO:-0700
TZNAME:PDT
DTSTART:20210314T100000
END:DAYLIGHT
BEGIN:STANDARD
TZOFFSETFROM:-0700
TZOFFSETTO:-0800
TZNAME:PST
DTSTART:20211107T090000
END:STANDARD
END:VTIMEZONE
BEGIN:VEVENT
DTSTART;TZID=America/Los_Angeles:20200503T110000
DTEND;TZID=America/Los_Angeles:20200503T143000
DTSTAMP:20260421T231312
CREATED:20200420T234209Z
LAST-MODIFIED:20200420T234237Z
UID:8012-1588503600-1588516200@lhasahappyhomes.org
SUMMARY:Adoption Event CANCELLED
DESCRIPTION:
URL:https://lhasahappyhomes.org/event/adoption-event-cancelled/
END:VEVENT
BEGIN:VEVENT
DTSTART;TZID=America/Los_Angeles:20200510T110000
DTEND;TZID=America/Los_Angeles:20200510T110000
DTSTAMP:20260421T231312
CREATED:20200420T234305Z
LAST-MODIFIED:20200420T234305Z
UID:8014-1589108400-1589108400@lhasahappyhomes.org
SUMMARY:Adoption Event CANCELLED
DESCRIPTION:
URL:https://lhasahappyhomes.org/event/adoption-event-cancelled-2/
END:VEVENT
BEGIN:VEVENT
DTSTART;TZID=America/Los_Angeles:20200517T080000
DTEND;TZID=America/Los_Angeles:20200517T170000
DTSTAMP:20260421T231312
CREATED:20200515T195424Z
LAST-MODIFIED:20200515T195424Z
UID:8056-1589702400-1589734800@lhasahappyhomes.org
SUMMARY:NO ADOPTION EVENT
DESCRIPTION:
URL:https://lhasahappyhomes.org/event/no-adoption-event-6/
END:VEVENT
BEGIN:VEVENT
DTSTART;TZID=America/Los_Angeles:20200524T080000
DTEND;TZID=America/Los_Angeles:20200524T170000
DTSTAMP:20260421T231312
CREATED:20200515T195440Z
LAST-MODIFIED:20200515T195440Z
UID:8058-1590307200-1590339600@lhasahappyhomes.org
SUMMARY:NO ADOPTION EVENT
DESCRIPTION:
URL:https://lhasahappyhomes.org/event/no-adoption-event-7/
END:VEVENT
BEGIN:VEVENT
DTSTART;TZID=America/Los_Angeles:20200531T080000
DTEND;TZID=America/Los_Angeles:20200531T170000
DTSTAMP:20260421T231312
CREATED:20200515T195455Z
LAST-MODIFIED:20200515T195455Z
UID:8060-1590912000-1590944400@lhasahappyhomes.org
SUMMARY:NO ADOPTION EVENT
DESCRIPTION:
URL:https://lhasahappyhomes.org/event/no-adoption-event-8/
END:VEVENT
END:VCALENDAR