BEGIN:VCALENDAR
VERSION:2.0
PRODID:-//Lhasa Happy Homes - ECPv6.15.17.1//NONSGML v1.0//EN
CALSCALE:GREGORIAN
METHOD:PUBLISH
X-WR-CALNAME:Lhasa Happy Homes
X-ORIGINAL-URL:https://lhasahappyhomes.org
X-WR-CALDESC:Events for Lhasa Happy Homes
REFRESH-INTERVAL;VALUE=DURATION:PT1H
X-Robots-Tag:noindex
X-PUBLISHED-TTL:PT1H
BEGIN:VTIMEZONE
TZID:America/Los_Angeles
BEGIN:DAYLIGHT
TZOFFSETFROM:-0800
TZOFFSETTO:-0700
TZNAME:PDT
DTSTART:20180311T100000
END:DAYLIGHT
BEGIN:STANDARD
TZOFFSETFROM:-0700
TZOFFSETTO:-0800
TZNAME:PST
DTSTART:20181104T090000
END:STANDARD
BEGIN:DAYLIGHT
TZOFFSETFROM:-0800
TZOFFSETTO:-0700
TZNAME:PDT
DTSTART:20190310T100000
END:DAYLIGHT
BEGIN:STANDARD
TZOFFSETFROM:-0700
TZOFFSETTO:-0800
TZNAME:PST
DTSTART:20191103T090000
END:STANDARD
BEGIN:DAYLIGHT
TZOFFSETFROM:-0800
TZOFFSETTO:-0700
TZNAME:PDT
DTSTART:20200308T100000
END:DAYLIGHT
BEGIN:STANDARD
TZOFFSETFROM:-0700
TZOFFSETTO:-0800
TZNAME:PST
DTSTART:20201101T090000
END:STANDARD
BEGIN:DAYLIGHT
TZOFFSETFROM:-0800
TZOFFSETTO:-0700
TZNAME:PDT
DTSTART:20210314T100000
END:DAYLIGHT
BEGIN:STANDARD
TZOFFSETFROM:-0700
TZOFFSETTO:-0800
TZNAME:PST
DTSTART:20211107T090000
END:STANDARD
END:VTIMEZONE
BEGIN:VEVENT
DTSTART;TZID=America/Los_Angeles:20200412T110000
DTEND;TZID=America/Los_Angeles:20200412T143000
DTSTAMP:20260419T195400
CREATED:20200208T024523Z
LAST-MODIFIED:20200420T233818Z
UID:7831-1586689200-1586701800@lhasahappyhomes.org
SUMMARY:Adoption Event  CANCELLED
DESCRIPTION:If your application has been approved\, please bring: \n1) a copy of your application;\n2) photos/video of your home and yard (fencing & gates) if we have not yet done a home visit (we prefer doing in-home visits)\n3) your dog(s)\, if you have any….they make the final decision!  4) cash\, credit card or check
URL:https://lhasahappyhomes.org/event/adoption-event-rover-kennels-120/
LOCATION:Pacific Street Park (front) – Lhasa Happy Homes\, 2116 Main Street\, Santa Monica\, CA\, United States
CATEGORIES:Adoption Fair
ORGANIZER;CN="Lhasa Happy Homes Rescue":MAILTO:Randee
END:VEVENT
BEGIN:VEVENT
DTSTART;TZID=America/Los_Angeles:20200405T110000
DTEND;TZID=America/Los_Angeles:20200405T143000
DTSTAMP:20260419T195400
CREATED:20200208T024404Z
LAST-MODIFIED:20200420T233809Z
UID:7829-1586084400-1586097000@lhasahappyhomes.org
SUMMARY:Adoption Event CANCELLED
DESCRIPTION:If your application has been approved\, please bring: \n1) a copy of your application;\n2) photos/video of your home and yard (fencing & gates) if we have not yet done a home visit (we prefer doing in-home visits)\n3) your dog(s)\, if you have any….they make the final decision!  4) cash\, credit card or check
URL:https://lhasahappyhomes.org/event/adoption-event-rover-kennels-119/
LOCATION:Pacific Street Park (front) – Lhasa Happy Homes\, 2116 Main Street\, Santa Monica\, CA\, United States
CATEGORIES:Adoption Fair
ORGANIZER;CN="Lhasa Happy Homes Rescue":MAILTO:Randee
END:VEVENT
BEGIN:VEVENT
DTSTART;TZID=America/Los_Angeles:20200329T110000
DTEND;TZID=America/Los_Angeles:20200329T143000
DTSTAMP:20260419T195400
CREATED:20200208T024227Z
LAST-MODIFIED:20200317T232135Z
UID:7827-1585479600-1585492200@lhasahappyhomes.org
SUMMARY:Adoption Event - CANCELLED
DESCRIPTION:BECAUSE OF THE CORONA VIRUS\, ALL EVENTS HAVE BEEN CANCELLED UNTIL THE END OF MARCH.  WE ARE TAKING THIS ON A WEEK BY WEEK BASIS.  WE WILL MAKE APPOINTMENTS WITH APPROVED APPLICANTS ON A CASE BY CASE BASIS.   \nTHANK YOU FOR YOUR PATIENCE DURING THIS DIFFICULT TIME AND PLEASE STAY SAFE!! \n  \nIf your application has been approved\, please bring: \n1) a copy of your application;\n2) photos/video of your home and yard (fencing & gates) if we have not yet done a home visit (we prefer doing in-home visits)\n3) your dog(s)\, if you have any….they make the final decision!  4) cash\, credit card or check
URL:https://lhasahappyhomes.org/event/adoption-event-rover-kennels-118/
LOCATION:Pacific Street Park (front) – Lhasa Happy Homes\, 2116 Main Street\, Santa Monica\, CA\, United States
CATEGORIES:Adoption Fair
ORGANIZER;CN="Lhasa Happy Homes Rescue":MAILTO:Randee
END:VEVENT
BEGIN:VEVENT
DTSTART;TZID=America/Los_Angeles:20200322T110000
DTEND;TZID=America/Los_Angeles:20200322T143000
DTSTAMP:20260419T195400
CREATED:20200208T024129Z
LAST-MODIFIED:20200317T232040Z
UID:7825-1584874800-1584887400@lhasahappyhomes.org
SUMMARY:Adoption Event - CANCELLED
DESCRIPTION:  \nBECAUSE OF THE CORONA VIRUS\, ALL EVENTS HAVE BEEN CANCELLED UNTIL THE END OF MARCH.  WE ARE TAKING THIS ON A WEEK BY WEEK BASIS.  WE WILL MAKE APPOINTMENTS WITH APPROVED APPLICANTS ON A CASE BY CASE BASIS.   \nTHANK YOU FOR YOUR PATIENCE DURING THIS DIFFICULT TIME AND PLEASE STAY SAFE!! \nIf your application has been approved\, please bring: \n1) a copy of your application;\n2) photos/video of your home and yard (fencing & gates) if we have not yet done a home visit (we prefer doing in-home visits)\n3) your dog(s)\, if you have any….they make the final decision!  4) cash\, credit card or check
URL:https://lhasahappyhomes.org/event/adoption-event-rover-kennels-117/
LOCATION:Pacific Street Park (front) – Lhasa Happy Homes\, 2116 Main Street\, Santa Monica\, CA\, United States
CATEGORIES:Adoption Fair
ORGANIZER;CN="Lhasa Happy Homes Rescue":MAILTO:Randee
END:VEVENT
BEGIN:VEVENT
DTSTART;TZID=America/Los_Angeles:20200315T110000
DTEND;TZID=America/Los_Angeles:20200315T143000
DTSTAMP:20260419T195400
CREATED:20200208T023950Z
LAST-MODIFIED:20200313T235856Z
UID:7823-1584270000-1584282600@lhasahappyhomes.org
SUMMARY:Adoption Event CANCELLED
DESCRIPTION:Due to forecasted rain and public-health concerns\, we will be cancelling our adoption event for Sunday\, March 15th.
URL:https://lhasahappyhomes.org/event/adoption-event-rover-kennels-116/
LOCATION:Pacific Street Park (front) – Lhasa Happy Homes\, 2116 Main Street\, Santa Monica\, CA\, United States
CATEGORIES:Adoption Fair
ORGANIZER;CN="Lhasa Happy Homes Rescue":MAILTO:Randee
END:VEVENT
BEGIN:VEVENT
DTSTART;TZID=America/Los_Angeles:20200308T110000
DTEND;TZID=America/Los_Angeles:20200308T143000
DTSTAMP:20260419T195400
CREATED:20200208T023840Z
LAST-MODIFIED:20200208T023840Z
UID:7821-1583665200-1583677800@lhasahappyhomes.org
SUMMARY:Adoption Event - Rover Kennels
DESCRIPTION:If your application has been approved\, please bring: \n1) a copy of your application;\n2) photos/video of your home and yard (fencing & gates) if we have not yet done a home visit (we prefer doing in-home visits)\n3) your dog(s)\, if you have any….they make the final decision!  4) cash\, credit card or check
URL:https://lhasahappyhomes.org/event/adoption-event-rover-kennels-115/
LOCATION:Pacific Street Park (front) – Lhasa Happy Homes\, 2116 Main Street\, Santa Monica\, CA\, United States
CATEGORIES:Adoption Fair
ORGANIZER;CN="Lhasa Happy Homes Rescue":MAILTO:Randee
END:VEVENT
BEGIN:VEVENT
DTSTART;TZID=America/Los_Angeles:20200301T110000
DTEND;TZID=America/Los_Angeles:20200301T143000
DTSTAMP:20260419T195400
CREATED:20200208T013112Z
LAST-MODIFIED:20200208T013112Z
UID:7819-1583060400-1583073000@lhasahappyhomes.org
SUMMARY:Adoption Event - Rover Kennels
DESCRIPTION:If your application has been approved\, please bring: \n1) a copy of your application;\n2) photos/video of your home and yard (fencing & gates) if we have not yet done a home visit (we prefer doing in-home visits)\n3) your dog(s)\, if you have any….they make the final decision!  4) cash\, credit card or check
URL:https://lhasahappyhomes.org/event/adoption-event-rover-kennels-114/
LOCATION:Rover Kennels\, 2116 Main Street\, Santa Monica\, CA\, 90405\, United States
CATEGORIES:Adoption Fair
ORGANIZER;CN="Lhasa Happy Homes Rescue":MAILTO:Randee
END:VEVENT
BEGIN:VEVENT
DTSTART;TZID=America/Los_Angeles:20200223T110000
DTEND;TZID=America/Los_Angeles:20200223T143000
DTSTAMP:20260419T195400
CREATED:20200208T012922Z
LAST-MODIFIED:20200208T012922Z
UID:7817-1582455600-1582468200@lhasahappyhomes.org
SUMMARY:Adoption Event - Rover Kennels
DESCRIPTION:If your application has been approved\, please bring: \n1) a copy of your application;\n2) photos/video of your home and yard (fencing & gates) if we have not yet done a home visit (we prefer doing in-home visits)\n3) your dog(s)\, if you have any….they make the final decision!  4) cash\, credit card or check
URL:https://lhasahappyhomes.org/event/adoption-event-rover-kennels-113/
LOCATION:Pacific Street Park (front) – Lhasa Happy Homes\, 2116 Main Street\, Santa Monica\, CA\, United States
CATEGORIES:Adoption Fair
ORGANIZER;CN="Lhasa Happy Homes Rescue":MAILTO:Randee
END:VEVENT
BEGIN:VEVENT
DTSTART;TZID=America/Los_Angeles:20200216T110000
DTEND;TZID=America/Los_Angeles:20200216T143000
DTSTAMP:20260419T195400
CREATED:20200208T012752Z
LAST-MODIFIED:20200208T012752Z
UID:7815-1581850800-1581863400@lhasahappyhomes.org
SUMMARY:Adoption Event - Rover Kennels
DESCRIPTION:If your application has been approved\, please bring: \n1) a copy of your application;\n2) photos/video of your home and yard (fencing & gates) if we have not yet done a home visit (we prefer doing in-home visits)\n3) your dog(s)\, if you have any….they make the final decision!  4) cash\, credit card or check
URL:https://lhasahappyhomes.org/event/adoption-event-rover-kennels-112/
LOCATION:Pacific Street Park (front) – Lhasa Happy Homes\, 2116 Main Street\, Santa Monica\, CA\, United States
CATEGORIES:Adoption Fair
ORGANIZER;CN="Lhasa Happy Homes Rescue":MAILTO:Randee
END:VEVENT
BEGIN:VEVENT
DTSTART;TZID=America/Los_Angeles:20200209T110000
DTEND;TZID=America/Los_Angeles:20200209T143000
DTSTAMP:20260419T195400
CREATED:20200202T201015Z
LAST-MODIFIED:20200208T012633Z
UID:7804-1581246000-1581258600@lhasahappyhomes.org
SUMMARY:Adoption Event - Rover Kennels
DESCRIPTION:BECAUSE OF THE THREAT OF RAIN\, WE WILL NOT BE HOLDING ADOPTIONS ON SUNDAY.  SORRY FOR ANY INCONVENIENCE.
URL:https://lhasahappyhomes.org/event/adoption-event-rover-kennels-111/
LOCATION:CA
CATEGORIES:Adoption Fair
ORGANIZER;CN="Lhasa Happy Homes Rescue":MAILTO:Randee
END:VEVENT
BEGIN:VEVENT
DTSTART;TZID=America/Los_Angeles:20191222T110000
DTEND;TZID=America/Los_Angeles:20191222T143000
DTSTAMP:20260419T195400
CREATED:20191101T232339Z
LAST-MODIFIED:20191101T232423Z
UID:7591-1577012400-1577025000@lhasahappyhomes.org
SUMMARY:ADOPTION EVENT - Rover Kennels
DESCRIPTION:Metered street parking. Free parking on 4th and Bicknell. Hunt for parking\, it’s  not so bad! \nIf your application has been approved\, please bring: \n1) a copy of your application;\n2) photos/video of your home and yard (fencing & gates) if we have not yet done a home visit (we prefer doing in-home visits)\n3) your dog(s)\, if you have any….they make the final decision!  4) cash\, credit card or check
URL:https://lhasahappyhomes.org/event/adoption-event-rover-kennels-109/
LOCATION:Rover Kennels\, 2116 Main Street\, Santa Monica\, CA\, 90405\, United States
CATEGORIES:Adoption Fair
END:VEVENT
BEGIN:VEVENT
DTSTART;TZID=America/Los_Angeles:20191215T110000
DTEND;TZID=America/Los_Angeles:20191215T143000
DTSTAMP:20260419T195400
CREATED:20191101T232304Z
LAST-MODIFIED:20191101T232304Z
UID:7589-1576407600-1576420200@lhasahappyhomes.org
SUMMARY:ADOPTION EVENT - Rover Kennels
DESCRIPTION:Metered street parking. Free parking on 4th and Bicknell. Hunt for parking\, it’s  not so bad! \nIf your application has been approved\, please bring: \n1) a copy of your application;\n2) photos/video of your home and yard (fencing & gates) if we have not yet done a home visit (we prefer doing in-home visits)\n3) your dog(s)\, if you have any….they make the final decision!  4) cash\, credit card or check
URL:https://lhasahappyhomes.org/event/adoption-event-rover-kennels-108/
LOCATION:Rover Kennels\, 2116 Main Street\, Santa Monica\, CA\, 90405\, United States
CATEGORIES:Adoption Fair
END:VEVENT
BEGIN:VEVENT
DTSTART;TZID=America/Los_Angeles:20191208T110000
DTEND;TZID=America/Los_Angeles:20191208T143000
DTSTAMP:20260419T195400
CREATED:20191101T232144Z
LAST-MODIFIED:20191206T072253Z
UID:7587-1575802800-1575815400@lhasahappyhomes.org
SUMMARY:ADOPTION EVENT CANCELLED
DESCRIPTION:Due to forecasted rain for this weekend\, we are cancelling our adoption event.  We hope to see you next week (12/15)!
URL:https://lhasahappyhomes.org/event/adoption-event-rover-kennels-107/
LOCATION:Rover Kennels\, 2116 Main Street\, Santa Monica\, CA\, 90405\, United States
CATEGORIES:Adoption Fair
END:VEVENT
BEGIN:VEVENT
DTSTART;TZID=America/Los_Angeles:20191124T110000
DTEND;TZID=America/Los_Angeles:20191124T110000
DTSTAMP:20260419T195400
CREATED:20191101T232055Z
LAST-MODIFIED:20191101T232055Z
UID:7585-1574593200-1574593200@lhasahappyhomes.org
SUMMARY:ADOPTION EVENT - Rover Kennels
DESCRIPTION:Metered street parking. Free parking on 4th and Bicknell. Hunt for parking\, it’s  not so bad! \nIf your application has been approved\, please bring: \n1) a copy of your application;\n2) photos/video of your home and yard (fencing & gates) if we have not yet done a home visit (we prefer doing in-home visits)\n3) your dog(s)\, if you have any….they make the final decision!  4) cash\, credit card or check
URL:https://lhasahappyhomes.org/event/adoption-event-rover-kennels-106/
LOCATION:Rover Kennels\, 2116 Main Street\, Santa Monica\, CA\, 90405\, United States
CATEGORIES:Adoption Fair
END:VEVENT
BEGIN:VEVENT
DTSTART;TZID=America/Los_Angeles:20191117T110000
DTEND;TZID=America/Los_Angeles:20191117T143000
DTSTAMP:20260419T195400
CREATED:20191101T232024Z
LAST-MODIFIED:20191101T232024Z
UID:7583-1573988400-1574001000@lhasahappyhomes.org
SUMMARY:ADOPTION EVENT - Rover Kennels
DESCRIPTION:Metered street parking. Free parking on 4th and Bicknell. Hunt for parking\, it’s  not so bad! \nIf your application has been approved\, please bring: \n1) a copy of your application;\n2) photos/video of your home and yard (fencing & gates) if we have not yet done a home visit (we prefer doing in-home visits)\n3) your dog(s)\, if you have any….they make the final decision!  4) cash\, credit card or check
URL:https://lhasahappyhomes.org/event/adoption-event-rover-kennels-105/
LOCATION:Rover Kennels\, 2116 Main Street\, Santa Monica\, CA\, 90405\, United States
CATEGORIES:Adoption Fair
END:VEVENT
BEGIN:VEVENT
DTSTART;TZID=America/Los_Angeles:20191110T110000
DTEND;TZID=America/Los_Angeles:20191110T143000
DTSTAMP:20260419T195400
CREATED:20191101T231944Z
LAST-MODIFIED:20191101T231944Z
UID:7579-1573383600-1573396200@lhasahappyhomes.org
SUMMARY:ADOPTION EVENT - Rover Kennels
DESCRIPTION:Metered street parking. Free parking on 4th and Bicknell. Hunt for parking\, it’s  not so bad! \nIf your application has been approved\, please bring: \n1) a copy of your application;\n2) photos/video of your home and yard (fencing & gates) if we have not yet done a home visit (we prefer doing in-home visits)\n3) your dog(s)\, if you have any….they make the final decision!  4) cash\, credit card or check
URL:https://lhasahappyhomes.org/event/adoption-event-rover-kennels-104/
LOCATION:Rover Kennels\, 2116 Main Street\, Santa Monica\, CA\, 90405\, United States
CATEGORIES:Adoption Fair
END:VEVENT
BEGIN:VEVENT
DTSTART;TZID=America/Los_Angeles:20191103T110000
DTEND;TZID=America/Los_Angeles:20191103T143000
DTSTAMP:20260419T195400
CREATED:20191101T231854Z
LAST-MODIFIED:20191101T231854Z
UID:7577-1572778800-1572791400@lhasahappyhomes.org
SUMMARY:ADOPTION EVENT - Rover Kennels
DESCRIPTION:Metered street parking. Free parking on 4th and Bicknell. Hunt for parking\, it’s  not so bad! \nIf your application has been approved\, please bring: \n1) a copy of your application;\n2) photos/video of your home and yard (fencing & gates) if we have not yet done a home visit (we prefer doing in-home visits)\n3) your dog(s)\, if you have any….they make the final decision!  4) cash\, credit card or check
URL:https://lhasahappyhomes.org/event/adoption-event-rover-kennels-103/
LOCATION:Rover Kennels\, 2116 Main Street\, Santa Monica\, CA\, 90405\, United States
CATEGORIES:Adoption Fair
END:VEVENT
BEGIN:VEVENT
DTSTART;TZID=America/Los_Angeles:20191013T110000
DTEND;TZID=America/Los_Angeles:20191013T143000
DTSTAMP:20260419T195400
CREATED:20191011T060957Z
LAST-MODIFIED:20191011T060957Z
UID:7505-1570964400-1570977000@lhasahappyhomes.org
SUMMARY:ADOPTION EVENT - Rover Kennels
DESCRIPTION:Metered street parking. Free parking on 4th and Bicknell. Hunt for parking\, it’s  not so bad! \nIf your application has been approved\, please bring: \n1) a copy of your application;\n2) photos/video of your home and yard (fencing & gates) if we have not yet done a home visit (we prefer doing in-home visits)\n3) your dog(s)\, if you have any….they make the final decision!  4) cash\, credit card or check
URL:https://lhasahappyhomes.org/event/adoption-event-rover-kennels-101/
LOCATION:Rover Kennels\, 2116 Main Street\, Santa Monica\, CA\, 90405\, United States
CATEGORIES:Adoption Fair
END:VEVENT
BEGIN:VEVENT
DTSTART;TZID=America/Los_Angeles:20190929T110000
DTEND;TZID=America/Los_Angeles:20190929T143000
DTSTAMP:20260419T195400
CREATED:20190829T022056Z
LAST-MODIFIED:20190829T022158Z
UID:7412-1569754800-1569767400@lhasahappyhomes.org
SUMMARY:ADOPTION EVENT - Rover Kennels
DESCRIPTION:Metered street parking. Free parking on 4th and Bicknell. Hunt for parking\, it’s  not so bad! \nIf your application has been approved\, please bring: \n1) a copy of your application;\n2) photos/video of your home and yard (fencing & gates) if we have not yet done a home visit (we prefer doing in-home visits)\n3) your dog(s)\, if you have any….they make the final decision!  4) cash\, credit card or check
URL:https://lhasahappyhomes.org/event/adoption-event-rover-kennels-100/
LOCATION:Rover Kennels\, 2116 Main Street\, Santa Monica\, CA\, 90405\, United States
CATEGORIES:Adoption Fair
END:VEVENT
BEGIN:VEVENT
DTSTART;TZID=America/Los_Angeles:20190922T110000
DTEND;TZID=America/Los_Angeles:20190922T143000
DTSTAMP:20260419T195400
CREATED:20190829T021917Z
LAST-MODIFIED:20190829T021917Z
UID:7410-1569150000-1569162600@lhasahappyhomes.org
SUMMARY:ADOPTION EVENT - Rover Kennels
DESCRIPTION:Metered street parking. Free parking on 4th and Bicknell. Hunt for parking\, it’s  not so bad! \nIf your application has been approved\, please bring: \n1) a copy of your application;\n2) photos/video of your home and yard (fencing & gates) if we have not yet done a home visit (we prefer doing in-home visits)\n3) your dog(s)\, if you have any….they make the final decision!  4) cash\, credit card or check
URL:https://lhasahappyhomes.org/event/adoption-event-rover-kennels-99/
LOCATION:Rover Kennels\, 2116 Main Street\, Santa Monica\, CA\, 90405\, United States
CATEGORIES:Adoption Fair
END:VEVENT
BEGIN:VEVENT
DTSTART;VALUE=DATE:20190915
DTEND;VALUE=DATE:20190916
DTSTAMP:20260419T195400
CREATED:20190829T021840Z
LAST-MODIFIED:20190912T195723Z
UID:7408-1568505600-1568591999@lhasahappyhomes.org
SUMMARY:ADOPTION EVENT CANCELLED
DESCRIPTION:Main Street will be closed for an event\, so we’ve had to cancel our adoption event today.  We’ll see you next week!
URL:https://lhasahappyhomes.org/event/adoption-event-rover-kennels-98/
LOCATION:Rover Kennels\, 2116 Main Street\, Santa Monica\, CA\, 90405\, United States
CATEGORIES:Adoption Fair
END:VEVENT
BEGIN:VEVENT
DTSTART;TZID=America/Los_Angeles:20190908T110000
DTEND;TZID=America/Los_Angeles:20190908T143000
DTSTAMP:20260419T195400
CREATED:20190829T021633Z
LAST-MODIFIED:20190829T021633Z
UID:7406-1567940400-1567953000@lhasahappyhomes.org
SUMMARY:ADOPTION EVENT - Rover Kennels
DESCRIPTION:Metered street parking. Free parking on 4th and Bicknell. Hunt for parking\, it’s  not so bad! \nIf your application has been approved\, please bring: \n1) a copy of your application;\n2) photos/video of your home and yard (fencing & gates) if we have not yet done a home visit (we prefer doing in-home visits)\n3) your dog(s)\, if you have any….they make the final decision!  4) cash\, credit card or check
URL:https://lhasahappyhomes.org/event/adoption-event-rover-kennels-97/
LOCATION:Rover Kennels\, 2116 Main Street\, Santa Monica\, CA\, 90405\, United States
CATEGORIES:Adoption Fair
END:VEVENT
BEGIN:VEVENT
DTSTART;TZID=America/Los_Angeles:20190825T110000
DTEND;TZID=America/Los_Angeles:20190825T143000
DTSTAMP:20260419T195400
CREATED:20190703T004623Z
LAST-MODIFIED:20190703T004904Z
UID:7254-1566730800-1566743400@lhasahappyhomes.org
SUMMARY:ADOPTION EVENT - Rover Kennels
DESCRIPTION:Metered street parking. Free parking on 4th and Bicknell. Hunt for parking\, it’s  not so bad! \nIf your application has been approved\, please bring: \n1) a copy of your application;\n2) photos/video of your home and yard (fencing & gates) if we have not yet done a home visit (we prefer doing in-home visits)\n3) your dog(s)\, if you have any….they make the final decision!  4) cash\, credit card or check
URL:https://lhasahappyhomes.org/event/adoption-event-rover-kennels-95/
LOCATION:Pacific Street Park (front) – Lhasa Happy Homes\, 2116 Main Street\, Santa Monica\, CA\, United States
CATEGORIES:Adoption Fair
ORGANIZER;CN="Lhasa Happy Homes Rescue":MAILTO:Randee
END:VEVENT
BEGIN:VEVENT
DTSTART;TZID=America/Los_Angeles:20190818T110000
DTEND;TZID=America/Los_Angeles:20190818T143000
DTSTAMP:20260419T195400
CREATED:20190703T005046Z
LAST-MODIFIED:20190703T005046Z
UID:7256-1566126000-1566138600@lhasahappyhomes.org
SUMMARY:ADOPTION EVENT - Rover Kennels
DESCRIPTION:Metered street parking. Free parking on 4th and Bicknell. Hunt for parking\, it’s  not so bad! \nIf your application has been approved\, please bring: \n1) a copy of your application;\n2) photos/video of your home and yard (fencing & gates) if we have not yet done a home visit (we prefer doing in-home visits)\n3) your dog(s)\, if you have any….they make the final decision!  4) cash\, credit card or check
URL:https://lhasahappyhomes.org/event/adoption-event-rover-kennels-96/
LOCATION:Pacific Street Park (front) – Lhasa Happy Homes\, 2116 Main Street\, Santa Monica\, CA\, United States
CATEGORIES:Adoption Fair
ORGANIZER;CN="Lhasa Happy Homes Rescue":MAILTO:Randee
END:VEVENT
BEGIN:VEVENT
DTSTART;TZID=America/Los_Angeles:20190811T110000
DTEND;TZID=America/Los_Angeles:20190811T143000
DTSTAMP:20260419T195400
CREATED:20190703T004234Z
LAST-MODIFIED:20190703T004234Z
UID:7252-1565521200-1565533800@lhasahappyhomes.org
SUMMARY:ADOPTION EVENT - Rover Kennels
DESCRIPTION:Metered street parking. Free parking on 4th and Bicknell. Hunt for parking\, it’s  not so bad! \nIf your application has been approved\, please bring: \n1) a copy of your application;\n2) photos/video of your home and yard (fencing & gates) if we have not yet done a home visit (we prefer doing in-home visits)\n3) your dog(s)\, if you have any….they make the final decision!  4) cash\, credit card or check
URL:https://lhasahappyhomes.org/event/adoption-event-rover-kennels-94/
LOCATION:CA
CATEGORIES:Adoption Fair
ORGANIZER;CN="Lhasa Happy Homes Rescue":MAILTO:Randee
END:VEVENT
BEGIN:VEVENT
DTSTART;TZID=America/Los_Angeles:20190804T110000
DTEND;TZID=America/Los_Angeles:20190804T143000
DTSTAMP:20260419T195400
CREATED:20190703T004106Z
LAST-MODIFIED:20190703T004106Z
UID:7250-1564916400-1564929000@lhasahappyhomes.org
SUMMARY:ADOPTION EVENT - Rover Kennels
DESCRIPTION:Metered street parking. Free parking on 4th and Bicknell. Hunt for parking\, it’s  not so bad! \nIf your application has been approved\, please bring: \n1) a copy of your application;\n2) photos/video of your home and yard (fencing & gates) if we have not yet done a home visit (we prefer doing in-home visits)\n3) your dog(s)\, if you have any….they make the final decision!  4) cash\, credit card or check
URL:https://lhasahappyhomes.org/event/adoption-event-rover-kennels-93/
LOCATION:CA
CATEGORIES:Adoption Fair
ORGANIZER;CN="Lhasa Happy Homes Rescue":MAILTO:Randee
END:VEVENT
BEGIN:VEVENT
DTSTART;TZID=America/Los_Angeles:20190728T110000
DTEND;TZID=America/Los_Angeles:20190728T143000
DTSTAMP:20260419T195400
CREATED:20190703T003733Z
LAST-MODIFIED:20190703T003802Z
UID:7248-1564311600-1564324200@lhasahappyhomes.org
SUMMARY:ADOPTION EVENT - Rover Kennels
DESCRIPTION:Metered street parking. Free parking on 4th and Bicknell. Hunt for parking\, it’s  not so bad! \nIf your application has been approved\, please bring: \n1) a copy of your application;\n2) photos/video of your home and yard (fencing & gates) if we have not yet done a home visit (we prefer doing in-home visits)\n3) your dog(s)\, if you have any….they make the final decision!  4) cash\, credit card or check
URL:https://lhasahappyhomes.org/event/adoption-event-rover-kennels-92/
LOCATION:CA
CATEGORIES:Adoption Fair
ORGANIZER;CN="Lhasa Happy Homes Rescue":MAILTO:Randee
END:VEVENT
BEGIN:VEVENT
DTSTART;TZID=America/Los_Angeles:20190721T110000
DTEND;TZID=America/Los_Angeles:20190721T143000
DTSTAMP:20260419T195400
CREATED:20190703T003346Z
LAST-MODIFIED:20190703T003444Z
UID:7246-1563706800-1563719400@lhasahappyhomes.org
SUMMARY:ADOPTION EVENT - Rover Kennels
DESCRIPTION:Metered street parking. Free parking on 4th and Bicknell. Hunt for parking\, it’s  not so bad! \nIf your application has been approved\, please bring: \n1) a copy of your application;\n2) photos/video of your home and yard (fencing & gates) if we have not yet done a home visit (we prefer doing in-home visits)\n3) your dog(s)\, if you have any….they make the final decision!  4) cash\, credit card or check
URL:https://lhasahappyhomes.org/event/adoption-event-rover-kennels-91/
LOCATION:Pacific Street Park (front) – Lhasa Happy Homes\, 2116 Main Street\, Santa Monica\, CA\, United States
CATEGORIES:Adoption Fair
ORGANIZER;CN="Lhasa Happy Homes Rescue":MAILTO:Randee
END:VEVENT
BEGIN:VEVENT
DTSTART;TZID=America/Los_Angeles:20190714T110000
DTEND;TZID=America/Los_Angeles:20190714T143000
DTSTAMP:20260419T195400
CREATED:20190703T003028Z
LAST-MODIFIED:20190703T003028Z
UID:7240-1563102000-1563114600@lhasahappyhomes.org
SUMMARY:ADOPTION EVENT - Rover Kennels
DESCRIPTION:Metered street parking. Free parking on 4th and Bicknell. Hunt for parking\, it’s  not so bad! \nIf your application has been approved\, please bring: \n1) a copy of your application;\n2) photos/video of your home and yard (fencing & gates) if we have not yet done a home visit (we prefer doing in-home visits)\n3) your dog(s)\, if you have any….they make the final decision!  4) cash\, credit card or check
URL:https://lhasahappyhomes.org/event/adoption-event-rover-kennels-90/
LOCATION:Pacific Street Park (front) – Lhasa Happy Homes\, 2116 Main Street\, Santa Monica\, CA\, United States
CATEGORIES:Adoption Fair
ORGANIZER;CN="Lhasa Happy Homes Rescue":MAILTO:Randee
END:VEVENT
BEGIN:VEVENT
DTSTART;VALUE=DATE:20190707
DTEND;VALUE=DATE:20190708
DTSTAMP:20260419T195400
CREATED:20190703T003221Z
LAST-MODIFIED:20190703T003221Z
UID:7242-1562457600-1562543999@lhasahappyhomes.org
SUMMARY:ADOPTIONS CANCELLED
DESCRIPTION:HAPPY 4TH OF JULY CELEBRATION!!
URL:https://lhasahappyhomes.org/event/adoptions-cancelled/
LOCATION:CA
CATEGORIES:Adoption Fair
ORGANIZER;CN="":MAILTO:Randee
END:VEVENT
END:VCALENDAR