BEGIN:VCALENDAR
VERSION:2.0
PRODID:-//Lhasa Happy Homes - ECPv6.15.17.1//NONSGML v1.0//EN
CALSCALE:GREGORIAN
METHOD:PUBLISH
X-ORIGINAL-URL:https://lhasahappyhomes.org
X-WR-CALDESC:Events for Lhasa Happy Homes
REFRESH-INTERVAL;VALUE=DURATION:PT1H
X-Robots-Tag:noindex
X-PUBLISHED-TTL:PT1H
BEGIN:VTIMEZONE
TZID:America/Los_Angeles
BEGIN:DAYLIGHT
TZOFFSETFROM:-0800
TZOFFSETTO:-0700
TZNAME:PDT
DTSTART:20250309T100000
END:DAYLIGHT
BEGIN:STANDARD
TZOFFSETFROM:-0700
TZOFFSETTO:-0800
TZNAME:PST
DTSTART:20251102T090000
END:STANDARD
BEGIN:DAYLIGHT
TZOFFSETFROM:-0800
TZOFFSETTO:-0700
TZNAME:PDT
DTSTART:20260308T100000
END:DAYLIGHT
BEGIN:STANDARD
TZOFFSETFROM:-0700
TZOFFSETTO:-0800
TZNAME:PST
DTSTART:20261101T090000
END:STANDARD
BEGIN:DAYLIGHT
TZOFFSETFROM:-0800
TZOFFSETTO:-0700
TZNAME:PDT
DTSTART:20270314T100000
END:DAYLIGHT
BEGIN:STANDARD
TZOFFSETFROM:-0700
TZOFFSETTO:-0800
TZNAME:PST
DTSTART:20271107T090000
END:STANDARD
END:VTIMEZONE
BEGIN:VEVENT
DTSTART;TZID=America/Los_Angeles:20260412T110000
DTEND;TZID=America/Los_Angeles:20260412T143000
DTSTAMP:20260420T100030
CREATED:20260227T034000Z
LAST-MODIFIED:20260412T191705Z
UID:13023-1775991600-1776004200@lhasahappyhomes.org
SUMMARY:ADOPTION EVENT CANCELED
DESCRIPTION:Adoption event cancelled due to forecasted rain. \nIndividual adoption appointments will be set for approved applicants. \nWe hope to see you at our next event!
URL:https://lhasahappyhomes.org/event/adoption-event-51/
LOCATION:Pacific Street Park (front) – Lhasa Happy Homes\, 2116 Main Street\, Santa Monica\, CA\, United States
CATEGORIES:Adoption Fair
ORGANIZER;CN="Lhasa Happy Homes Rescue":MAILTO:Randee
END:VEVENT
END:VCALENDAR