BEGIN:VCALENDAR
VERSION:2.0
PRODID:-//Lhasa Happy Homes - ECPv6.15.17.1//NONSGML v1.0//EN
CALSCALE:GREGORIAN
METHOD:PUBLISH
X-WR-CALNAME:Lhasa Happy Homes
X-ORIGINAL-URL:https://lhasahappyhomes.org
X-WR-CALDESC:Events for Lhasa Happy Homes
REFRESH-INTERVAL;VALUE=DURATION:PT1H
X-Robots-Tag:noindex
X-PUBLISHED-TTL:PT1H
BEGIN:VTIMEZONE
TZID:America/Los_Angeles
BEGIN:DAYLIGHT
TZOFFSETFROM:-0800
TZOFFSETTO:-0700
TZNAME:PDT
DTSTART:20180311T100000
END:DAYLIGHT
BEGIN:STANDARD
TZOFFSETFROM:-0700
TZOFFSETTO:-0800
TZNAME:PST
DTSTART:20181104T090000
END:STANDARD
BEGIN:DAYLIGHT
TZOFFSETFROM:-0800
TZOFFSETTO:-0700
TZNAME:PDT
DTSTART:20190310T100000
END:DAYLIGHT
BEGIN:STANDARD
TZOFFSETFROM:-0700
TZOFFSETTO:-0800
TZNAME:PST
DTSTART:20191103T090000
END:STANDARD
BEGIN:DAYLIGHT
TZOFFSETFROM:-0800
TZOFFSETTO:-0700
TZNAME:PDT
DTSTART:20200308T100000
END:DAYLIGHT
BEGIN:STANDARD
TZOFFSETFROM:-0700
TZOFFSETTO:-0800
TZNAME:PST
DTSTART:20201101T090000
END:STANDARD
END:VTIMEZONE
BEGIN:VEVENT
DTSTART;TZID=America/Los_Angeles:20191027T110000
DTEND;TZID=America/Los_Angeles:20191027T143000
DTSTAMP:20260425T134725
CREATED:20191011T061117Z
LAST-MODIFIED:20191011T061306Z
UID:7509-1572174000-1572186600@lhasahappyhomes.org
SUMMARY:ADOPTION EVENT - Global Pet Food Outlet
DESCRIPTION:Main Street will be closed for an event\, so we’ll be inside Global Pet Food Outlet in Culver City today! \nMetered street parking.  Roof Parking.  If your application has been approved\, please bring: \n1) a copy of your application;\n2) photos/video of your home and yard (fencing & gates) if we have not yet done a home visit (we prefer doing in-home visits)\n3) your dog(s)\, if you have any….they make the final decision!
URL:https://lhasahappyhomes.org/event/adoption-event-global-pet-food-outlet-2/
LOCATION:Global Pet Food Outlet\, 4449 Sepulveda Blvd\, Culver City\, CA\, 90230\, United States
END:VEVENT
END:VCALENDAR